BEGIN:VCALENDAR
VERSION:2.0
PRODID:-//Squarespace Inc/Squarespace 6//v6//EN
BEGIN:VEVENT
UID:5a296b0853450ad7b6a97b36@squarespace.com
DTSTAMP:20171207T162355Z
DTSTART:20180808T200000Z
DTEND:20180808T210000Z
SUMMARY:Baldwin Unit
GEO:38.325841;-89.878507
LOCATION:Bullpen\, 101 N. VanBuren St.\, New Athens\, IL
END:VEVENT
END:VCALENDAR
