BEGIN:VCALENDAR
VERSION:2.0
PRODID:-//Squarespace Inc/Squarespace 6//v6//EN
BEGIN:VEVENT
UID:5a3962c5e4966bf8af5f0dcb@squarespace.com
DTSTAMP:20171219T190453Z
DTSTART:20180807T200000Z
DTEND:20180807T210000Z
SUMMARY:Havana Unit
GEO:41.603729;-87.518442
LOCATION:VFW\, 425 W. Avenue\, Havana\, IL
END:VEVENT
END:VCALENDAR
