BEGIN:VCALENDAR
VERSION:2.0
PRODID:-//Squarespace Inc/Squarespace 6//v6//EN
BEGIN:VEVENT
UID:5a3a87e971c10b1cd4e4545f@squarespace.com
DTSTAMP:20171220T155535Z
DTSTART:20180802T213000Z
DTEND:20180802T223000Z
SUMMARY:Springfield Unit
GEO:39.743406;-89.714875
LOCATION:IBEW Local 51\, 3171 Green Head Drive\, Springfield\, IL\, 62711\, 
 United States
END:VEVENT
END:VCALENDAR
