BEGIN:VCALENDAR
VERSION:2.0
PRODID:-//Squarespace Inc/Squarespace 6//v6//EN
BEGIN:VEVENT
UID:5a33f9cf41920241eb4def65@squarespace.com
DTSTAMP:20171215T163543Z
DTSTART:20180802T210000Z
DTEND:20180802T220000Z
SUMMARY:Galesburg Unit
GEO:40.917282;-90.293151
LOCATION:Knoxville American Legion\, 749 Henderson Road\, Knoxville\, IL\, 
 61448\, United States
END:VEVENT
END:VCALENDAR
