BEGIN:VCALENDAR
VERSION:2.0
PRODID:-//Squarespace Inc/Squarespace 6//v6//EN
BEGIN:VEVENT
UID:5a3a82a6ec212dfab2f8125e@squarespace.com
DTSTAMP:20171220T153310Z
DTSTART:20180801T210000Z
DTEND:20180801T220000Z
SUMMARY:Lincoln Unit
GEO:40.139784;-89.349324
LOCATION:KC Hall\, 217 Limit Street\, Lincoln\, IL\, 62656\, United States
END:VEVENT
END:VCALENDAR
