BEGIN:VCALENDAR
VERSION:2.0
PRODID:-//Squarespace Inc/Squarespace 6//v6//EN
BEGIN:VEVENT
UID:5a3a84d7f9619a1f453c31d4@squarespace.com
DTSTAMP:20171220T154228Z
DTSTART:20180801T200000Z
DTEND:20180801T210000Z
SUMMARY:Clinton Unit
GEO:40.149904;-88.942707
LOCATION:1520 E. South Street\, Clinton\, IL
END:VEVENT
END:VCALENDAR
