BEGIN:VCALENDAR
VERSION:2.0
PRODID:-//Squarespace Inc/Squarespace 6//v6//EN
BEGIN:VEVENT
UID:5a3a87c58165f5cacc666c15@squarespace.com
DTSTAMP:20171220T155500Z
DTSTART:20180705T213000Z
DTEND:20180705T223000Z
SUMMARY:Springfield Unit
GEO:39.743406;-89.714875
LOCATION:IBEW Local 51\, 3171 Green Head Drive\, Springfield\, IL\, 62711\, 
 United States
END:VEVENT
END:VCALENDAR
