BEGIN:VCALENDAR
VERSION:2.0
PRODID:-//Squarespace Inc/Squarespace 6//v6//EN
BEGIN:VEVENT
UID:5a3a90398165f505dc9f7504@squarespace.com
DTSTAMP:20171220T163108Z
DTSTART:20180704T110000Z
DTEND:20180704T210000Z
SUMMARY:Office Closed Independence Day
END:VEVENT
END:VCALENDAR
