BEGIN:VCALENDAR
VERSION:2.0
PRODID:-//Squarespace Inc/Squarespace 6//v6//EN
BEGIN:VEVENT
UID:5a299632f9619a407c38b0d0@squarespace.com
DTSTAMP:20171207T192811Z
DTSTART:20180703T220000Z
DTEND:20180703T230000Z
SUMMARY:Bloomington Unit
GEO:40.448278;-89.02508
LOCATION:IBEW Local 197\, 2407 Beich Road\, Bloomington\, IL\, 61705\, Unit
 ed States
END:VEVENT
END:VCALENDAR
