BEGIN:VCALENDAR
VERSION:2.0
PRODID:-//Squarespace Inc/Squarespace 6//v6//EN
BEGIN:VEVENT
UID:5a3a828a24a69459bf43459e@squarespace.com
DTSTAMP:20171220T153239Z
DTSTART:20180711T210000Z
DTEND:20180711T220000Z
SUMMARY:Lincoln Unit
GEO:40.139784;-89.349324
LOCATION:KC Hall\, 217 Limit Street\, Lincoln\, IL\, 62656\, United States
END:VEVENT
END:VCALENDAR
