BEGIN:VCALENDAR
VERSION:2.0
PRODID:-//Squarespace Inc/Squarespace 6//v6//EN
BEGIN:VEVENT
UID:5a39649c24a6940a3230ee15@squarespace.com
DTSTAMP:20171219T191244Z
DTSTART:20180711T233000Z
DTEND:20180712T003000Z
SUMMARY:Jacksonville Unit
GEO:39.73497;-90.22795
LOCATION:AmVets Post 100\, 210 East Court Street\, Jacksonville\, IL\, 6265
 0\, United States
END:VEVENT
END:VCALENDAR
