BEGIN:VCALENDAR
VERSION:2.0
PRODID:-//Squarespace Inc/Squarespace 6//v6//EN
BEGIN:VEVENT
UID:5a2ad4d7e4966b0f293f42d9@squarespace.com
DTSTAMP:20171208T180735Z
DTSTART:20180710T213000Z
DTEND:20180710T223000Z
SUMMARY:Champaign Unit
GEO:40.13117;-88.252501
LOCATION:VFW Post 5520\, 609 Edgebrook Drive\, Champaign\, IL\, 61820\, Uni
 ted States
END:VEVENT
END:VCALENDAR
