BEGIN:VCALENDAR
VERSION:2.0
PRODID:-//Squarespace Inc/Squarespace 6//v6//EN
BEGIN:VEVENT
UID:5a3a9020085229cb6ff02703@squarespace.com
DTSTAMP:20171220T163039Z
DTSTART:20180701T110000Z
DTEND:20180701T120000Z
SUMMARY:3rd Quarter Union Dues
END:VEVENT
END:VCALENDAR
