BEGIN:VCALENDAR
VERSION:2.0
PRODID:-//Squarespace Inc/Squarespace 6//v6//EN
BEGIN:VEVENT
UID:5a3a8ff8085229cb6ff02039@squarespace.com
DTSTAMP:20171220T163002Z
DTSTART:20180609T130000Z
DTEND:20180609T170000Z
SUMMARY:ALBAT Training
GEO:39.840315;-88.9548
LOCATION:Decatur\, IL
END:VEVENT
END:VCALENDAR
