BEGIN:VCALENDAR
VERSION:2.0
PRODID:-//Squarespace Inc/Squarespace 6//v6//EN
BEGIN:VEVENT
UID:5a3a846971c10b1cd4e3b40e@squarespace.com
DTSTAMP:20171220T154037Z
DTSTART:20180606T200000Z
DTEND:20180606T210000Z
SUMMARY:Clinton Unit
GEO:40.149904;-88.942707
LOCATION:1520 E. South Street\, Clinton\, IL
END:VEVENT
END:VCALENDAR
