BEGIN:VCALENDAR
VERSION:2.0
PRODID:-//Squarespace Inc/Squarespace 6//v6//EN
BEGIN:VEVENT
UID:5a3a8fb48165f505dc9f5e0a@squarespace.com
DTSTAMP:20171220T162920Z
DTSTART:20180602T130000Z
DTEND:20180602T230000Z
SUMMARY:Local 51 Golf Outing
GEO:39.781721;-89.650148
LOCATION:Piper Glen\, Springfield\, IL
END:VEVENT
END:VCALENDAR
