BEGIN:VCALENDAR
VERSION:2.0
PRODID:-//Squarespace Inc/Squarespace 6//v6//EN
BEGIN:VEVENT
UID:5a33f96ef9619a424b1f9e10@squarespace.com
DTSTAMP:20171215T163409Z
DTSTART:20180503T210000Z
DTEND:20180503T220000Z
SUMMARY:Galesburg Unit
GEO:40.917282;-90.293151
LOCATION:Knoxville American Legion\, 749 Henderson Road\, Knoxville\, IL\, 
 61448\, United States
END:VEVENT
END:VCALENDAR
