BEGIN:VCALENDAR
VERSION:2.0
PRODID:-//Squarespace Inc/Squarespace 6//v6//EN
BEGIN:VEVENT
UID:5a3a8f91ec212d380bff28a3@squarespace.com
DTSTAMP:20171220T162820Z
DTSTART:20180528T110000Z
DTEND:20180528T210000Z
SUMMARY:Office Closed Memorial Day
END:VEVENT
END:VCALENDAR
