BEGIN:VCALENDAR
VERSION:2.0
PRODID:-//Squarespace Inc/Squarespace 6//v6//EN
BEGIN:VEVENT
UID:5a3a8245652dea3049204467@squarespace.com
DTSTAMP:20171220T153133Z
DTSTART:20180502T210000Z
DTEND:20180502T220000Z
SUMMARY:Lincoln Unit
GEO:40.139784;-89.349324
LOCATION:KC Hall\, 217 Limit Street\, Lincoln\, IL\, 62656\, United States
END:VEVENT
END:VCALENDAR
