BEGIN:VCALENDAR
VERSION:2.0
PRODID:-//Squarespace Inc/Squarespace 6//v6//EN
BEGIN:VEVENT
UID:5a3a844b085229908fd3773d@squarespace.com
DTSTAMP:20171220T154009Z
DTSTART:20180502T200000Z
DTEND:20180502T210000Z
SUMMARY:Clinton Unit
GEO:39.781292;-89.634969
LOCATION:1520 E. South Street\, Clinton\, IL\, United States
END:VEVENT
END:VCALENDAR
