BEGIN:VCALENDAR
VERSION:2.0
PRODID:-//Squarespace Inc/Squarespace 6//v6//EN
BEGIN:VEVENT
UID:5a3a8f55e2c48392a990a672@squarespace.com
DTSTAMP:20171220T162745Z
DTSTART:20180512T130000Z
DTEND:20180512T170000Z
SUMMARY:ALBAT Training
GEO:39.840315;-88.9548
LOCATION:Decatur\, IL
END:VEVENT
END:VCALENDAR
