BEGIN:VCALENDAR
VERSION:2.0
PRODID:-//Squarespace Inc/Squarespace 6//v6//EN
BEGIN:VEVENT
UID:5a3a85dd9140b71d4e7d71a8@squarespace.com
DTSTAMP:20171220T154653Z
DTSTART:20180510T203000Z
DTEND:20180510T213000Z
SUMMARY:Peoria Unit
GEO:40.739268;-89.570442
LOCATION:VFRW 2602\, 1505 E. Lake Street\, Peoria Heights\, IL
END:VEVENT
END:VCALENDAR
