BEGIN:VCALENDAR
VERSION:2.0
PRODID:-//Squarespace Inc/Squarespace 6//v6//EN
BEGIN:VEVENT
UID:5a33e48653450a16519e85b2@squarespace.com
DTSTAMP:20171215T150457Z
DTSTART:20180510T193000Z
DTEND:20180510T203000Z
SUMMARY:Decatur Unit
GEO:39.88429;-88.935479
LOCATION:IBEW Local 146\, 3390 North Woodford Street\, Decatur\, IL\, 62526
 \, United States
END:VEVENT
END:VCALENDAR
