BEGIN:VCALENDAR
VERSION:2.0
PRODID:-//Squarespace Inc/Squarespace 6//v6//EN
BEGIN:VEVENT
UID:5a33f948e4966b79a0752806@squarespace.com
DTSTAMP:20171215T163335Z
DTSTART:20180405T210000Z
DTEND:20180405T220000Z
SUMMARY:Galesburg Unit
GEO:40.917282;-90.293151
LOCATION:Knoxville American Legion\, 749 Henderson Road\, Knoxville\, IL\, 
 61448\, United States
END:VEVENT
END:VCALENDAR
