BEGIN:VCALENDAR
VERSION:2.0
PRODID:-//Squarespace Inc/Squarespace 6//v6//EN
BEGIN:VEVENT
UID:5a3a8436e4966b2811f473db@squarespace.com
DTSTAMP:20171220T153946Z
DTSTART:20180404T200000Z
DTEND:20180404T210000Z
SUMMARY:Clinton Unit
GEO:39.404178;-77.393813
LOCATION:1520 E. South Street\, Clinton IL
END:VEVENT
END:VCALENDAR
