BEGIN:VCALENDAR
VERSION:2.0
PRODID:-//Squarespace Inc/Squarespace 6//v6//EN
BEGIN:VEVENT
UID:5a396240ec212dbbbd49dea8@squarespace.com
DTSTAMP:20171219T190242Z
DTSTART:20180403T200000Z
DTEND:20180403T210000Z
SUMMARY:Havana Unit
GEO:41.603729;-87.518442
LOCATION:VFW\, 425 W. Avenue\, Havana\, IL
END:VEVENT
END:VCALENDAR
