BEGIN:VCALENDAR
VERSION:2.0
PRODID:-//Squarespace Inc/Squarespace 6//v6//EN
BEGIN:VEVENT
UID:5a33e45b71c10b467bdd099c@squarespace.com
DTSTAMP:20171215T150409Z
DTSTART:20180412T193000Z
DTEND:20180412T203000Z
SUMMARY:Decatur Unit
GEO:39.88429;-88.935479
LOCATION:IBEW Local 146\, 3390 North Woodford Street\, Decatur\, IL\, 62526
 \, United States
END:VEVENT
END:VCALENDAR
