BEGIN:VCALENDAR
VERSION:2.0
PRODID:-//Squarespace Inc/Squarespace 6//v6//EN
BEGIN:VEVENT
UID:5a3a8f06f9619a5a1a10a791@squarespace.com
DTSTAMP:20171220T162602Z
DTSTART:20180401T110000Z
DTEND:20180401T120000Z
SUMMARY:2nd Qtr Union Dues
END:VEVENT
END:VCALENDAR
