BEGIN:VCALENDAR
VERSION:2.0
PRODID:-//Squarespace Inc/Squarespace 6//v6//EN
BEGIN:VEVENT
UID:5a33e43e8165f5e58a449685@squarespace.com
DTSTAMP:20171215T150345Z
DTSTART:20180308T203000Z
DTEND:20180308T213000Z
SUMMARY:Decatur Unit
GEO:39.88429;-88.935479
LOCATION:IBEW Local 146\, 3390 North Woodford Street\, Decatur\, IL\, 62526
 \, United States
END:VEVENT
END:VCALENDAR
