BEGIN:VCALENDAR
VERSION:2.0
PRODID:-//Squarespace Inc/Squarespace 6//v6//EN
BEGIN:VEVENT
UID:5a3a81d624a69459bf432a63@squarespace.com
DTSTAMP:20171220T152941Z
DTSTART:20180307T220000Z
DTEND:20180307T230000Z
SUMMARY:Lincoln Unit
GEO:40.139784;-89.349324
LOCATION:KC Hall\, 217 Limit Street\, Lincoln\, IL\, 62656\, United States
END:VEVENT
END:VCALENDAR
