BEGIN:VCALENDAR
VERSION:2.0
PRODID:-//Squarespace Inc/Squarespace 6//v6//EN
BEGIN:VEVENT
UID:5a3a7f72c83025aa67eba92c@squarespace.com
DTSTAMP:20171220T151939Z
DTSTART:20180307T230000Z
DTEND:20180308T000000Z
SUMMARY:LaSalle Unit
GEO:41.327869;-89.143939
LOCATION:Eagles Lodge\, 830 Harrison Street\, Peru\, IL\, 61354\, United St
 ates
END:VEVENT
END:VCALENDAR
