BEGIN:VCALENDAR
VERSION:2.0
PRODID:-//Squarespace Inc/Squarespace 6//v6//EN
BEGIN:VEVENT
UID:5a3a8ed94192023912457682@squarespace.com
DTSTAMP:20171220T162517Z
DTSTART:20180330T110000Z
DTEND:20180330T210000Z
SUMMARY:Office Closed Good Friday
END:VEVENT
END:VCALENDAR
