BEGIN:VCALENDAR
VERSION:2.0
PRODID:-//Squarespace Inc/Squarespace 6//v6//EN
BEGIN:VEVENT
UID:5a3963d424a6940a3230c7d8@squarespace.com
DTSTAMP:20171219T190931Z
DTSTART:20180314T233000Z
DTEND:20180315T003000Z
SUMMARY:Jacksonville Unit
GEO:39.73497;-90.22795
LOCATION:AmVets Post 100\, 210 East Court Street\, Jacksonville\, IL\, 6265
 0\, United States
END:VEVENT
END:VCALENDAR
