BEGIN:VCALENDAR
VERSION:2.0
PRODID:-//Squarespace Inc/Squarespace 6//v6//EN
BEGIN:VEVENT
UID:5a3a8ea7e2c48392a99088a1@squarespace.com
DTSTAMP:20171220T162430Z
DTSTART:20180310T140000Z
DTEND:20180310T180000Z
SUMMARY:ALBAT Training
GEO:39.840315;-88.9548
LOCATION:Decatur\, IL
END:VEVENT
END:VCALENDAR
