BEGIN:VCALENDAR
VERSION:2.0
PRODID:-//Squarespace Inc/Squarespace 6//v6//EN
BEGIN:VEVENT
UID:5a33f92571c10b467be0a13a@squarespace.com
DTSTAMP:20171215T163300Z
DTSTART:20180301T220000Z
DTEND:20180301T230000Z
SUMMARY:Galesburg Unit
GEO:40.917282;-90.293151
LOCATION:Knoxville American Legion\, 749 Henderson Road\, Knoxville\, IL\, 
 61448\, United States
END:VEVENT
END:VCALENDAR
