BEGIN:VCALENDAR
VERSION:2.0
PRODID:-//Squarespace Inc/Squarespace 6//v6//EN
BEGIN:VEVENT
UID:5a3a855b085229908fd3a2fb@squarespace.com
DTSTAMP:20171220T154503Z
DTSTART:20180208T213000Z
DTEND:20180208T223000Z
SUMMARY:Peoria Unit
GEO:44.948164;-93.253571
LOCATION:VFW 2602\, 1505 E. Lake Street\, Peoria Heights\, IL
END:VEVENT
END:VCALENDAR
