BEGIN:VCALENDAR
VERSION:2.0
PRODID:-//Squarespace Inc/Squarespace 6//v6//EN
BEGIN:VEVENT
UID:5a3961e3e4966bf8af5ee349@squarespace.com
DTSTAMP:20171219T190122Z
DTSTART:20180206T210000Z
DTEND:20180206T220000Z
SUMMARY:Havana Unit
GEO:39.284267;-74.570353
LOCATION:VFW\, 425 West Avenue\, Havana\, IL
END:VEVENT
END:VCALENDAR
