BEGIN:VCALENDAR
VERSION:2.0
PRODID:-//Squarespace Inc/Squarespace 6//v6//EN
BEGIN:VEVENT
UID:5a2969c18165f5b7e2b9c1ae@squarespace.com
DTSTAMP:20171207T161852Z
DTSTART:20180214T210000Z
DTEND:20180214T220000Z
SUMMARY:Baldwin Unit
GEO:34.752118;-92.330165
LOCATION:Bullpen\, 101 N. VanBuren St.\, New Athens\, IL
END:VEVENT
END:VCALENDAR
