BEGIN:VCALENDAR
VERSION:2.0
PRODID:-//Squarespace Inc/Squarespace 6//v6//EN
BEGIN:VEVENT
UID:5a3a88f024a69459bf4462b2@squarespace.com
DTSTAMP:20171220T160016Z
DTSTART:20180210T120000Z
DTEND:20180210T130000Z
SUMMARY:DOT Physicals
GEO:39.743406;-89.714875
LOCATION:IBEW Local 51\, 3171 Green Head Drive\, Springfield\, IL\, 62711\, 
 United States
END:VEVENT
END:VCALENDAR
