BEGIN:VCALENDAR
VERSION:2.0
PRODID:-//Squarespace Inc/Squarespace 6//v6//EN
BEGIN:VEVENT
UID:5a3a8926e4966b5c09e3af47@squarespace.com
DTSTAMP:20171220T160058Z
DTSTART:20180210T140000Z
DTEND:20180210T150000Z
SUMMARY:ALBAT Training
GEO:40.720756;-74.000761
LOCATION:Decatur\, IL
END:VEVENT
END:VCALENDAR
