BEGIN:VCALENDAR
VERSION:2.0
PRODID:-//Squarespace Inc/Squarespace 6//v6//EN
BEGIN:VEVENT
UID:5a3a871dc83025aa67ecdc8d@squarespace.com
DTSTAMP:20171220T155220Z
DTSTART:20180201T223000Z
DTEND:20180201T233000Z
SUMMARY:Springfield Unit
GEO:39.743406;-89.714875
LOCATION:IBEW Local 51\, 3171 Green Head Drive\, Springfield\, IL\, 62711\, 
 United States
END:VEVENT
END:VCALENDAR
