BEGIN:VCALENDAR
VERSION:2.0
PRODID:-//Squarespace Inc/Squarespace 6//v6//EN
BEGIN:VEVENT
UID:5a3a918c652dea56bf3bd3d2@squarespace.com
DTSTAMP:20171220T163650Z
DTSTART:20181208T140000Z
DTEND:20181208T180000Z
SUMMARY:ALBAT Training
GEO:39.840315;-88.9548
LOCATION:Decatur\, IL
END:VEVENT
END:VCALENDAR
