BEGIN:VCALENDAR
VERSION:2.0
PRODID:-//Squarespace Inc/Squarespace 6//v6//EN
BEGIN:VEVENT
UID:5a39634af9619ae081200070@squarespace.com
DTSTAMP:20171219T190711Z
DTSTART:20181204T210000Z
DTEND:20181204T220000Z
SUMMARY:Havana Unit
GEO:41.603729;-87.518442
LOCATION:VFW\, 425 W. Avenue\, Havana\, IL
END:VEVENT
END:VCALENDAR
