BEGIN:VCALENDAR
VERSION:2.0
PRODID:-//Squarespace Inc/Squarespace 6//v6//EN
BEGIN:VEVENT
UID:5a3a91d08165f505dc9fbd96@squarespace.com
DTSTAMP:20171220T163759Z
DTSTART:20181231T120000Z
DTEND:20190101T220000Z
SUMMARY:Office Closed New Years
END:VEVENT
END:VCALENDAR
