BEGIN:VCALENDAR
VERSION:2.0
PRODID:-//Squarespace Inc/Squarespace 6//v6//EN
BEGIN:VEVENT
UID:5a3a91b424a694938444e770@squarespace.com
DTSTAMP:20171220T163727Z
DTSTART:20181224T120000Z
DTEND:20181225T220000Z
SUMMARY:Office Closed Christmas
END:VEVENT
END:VCALENDAR
