BEGIN:VCALENDAR
VERSION:2.0
PRODID:-//Squarespace Inc/Squarespace 6//v6//EN
BEGIN:VEVENT
UID:5a3a8e5f0d929714447b24ae@squarespace.com
DTSTAMP:20171220T162339Z
DTSTART:20181214T140000Z
DTEND:20181214T150000Z
SUMMARY:Executive Board
GEO:39.743406;-89.714875
LOCATION:IBEW Local 51\, 3171 Green Head Drive\, Springfield\, IL\, 62711\, 
 United States
END:VEVENT
END:VCALENDAR
