BEGIN:VCALENDAR
VERSION:2.0
PRODID:-//Squarespace Inc/Squarespace 6//v6//EN
BEGIN:VEVENT
UID:5a3a86f224a69459bf43f5cf@squarespace.com
DTSTAMP:20171220T155133Z
DTSTART:20181213T213000Z
DTEND:20181213T223000Z
SUMMARY:Peoria Unit
GEO:40.739268;-89.570442
LOCATION:VFW 2602\, 1505 E. Lake Street\, Peoria Heights\, IL
END:VEVENT
END:VCALENDAR
