BEGIN:VCALENDAR
VERSION:2.0
PRODID:-//Squarespace Inc/Squarespace 6//v6//EN
BEGIN:VEVENT
UID:5a296baec83025b5307184a5@squarespace.com
DTSTAMP:20171208T181829Z
DTSTART:20181212T210000Z
DTEND:20181212T220000Z
SUMMARY:Baldwin Unit
GEO:38.325841;-89.878507
LOCATION:Bullpen\, 101 N. VanBuren St.\, New Athens\, IL
END:VEVENT
END:VCALENDAR
