BEGIN:VCALENDAR
VERSION:2.0
PRODID:-//Squarespace Inc/Squarespace 6//v6//EN
BEGIN:VEVENT
UID:5a3a82f7419202030efbb2a5@squarespace.com
DTSTAMP:20171220T153429Z
DTSTART:20181107T220000Z
DTEND:20181107T230000Z
SUMMARY:Lincoln Unit
GEO:40.139784;-89.349324
LOCATION:KC Hall\, 217 Limit Street\, Lincoln\, IL\, 62656\, United States
END:VEVENT
END:VCALENDAR
