BEGIN:VCALENDAR
VERSION:2.0
PRODID:-//Squarespace Inc/Squarespace 6//v6//EN
BEGIN:VEVENT
UID:5a3a852753450ae17a51c120@squarespace.com
DTSTAMP:20171220T154349Z
DTSTART:20181107T210000Z
DTEND:20181107T220000Z
SUMMARY:Clinton Unit
GEO:40.149904;-88.942707
LOCATION:1520 E. South Street\, Clinton\, IL
END:VEVENT
END:VCALENDAR
